BEGIN:VCALENDAR
VERSION:2.0
PRODID:-//Bright Path Achievement Center - ECPv6.15.19//NONSGML v1.0//EN
CALSCALE:GREGORIAN
METHOD:PUBLISH
X-ORIGINAL-URL:https://brightpathtlc.com
X-WR-CALDESC:Events for Bright Path Achievement Center
REFRESH-INTERVAL;VALUE=DURATION:PT1H
X-Robots-Tag:noindex
X-PUBLISHED-TTL:PT1H
BEGIN:VTIMEZONE
TZID:UTC
BEGIN:STANDARD
TZOFFSETFROM:+0000
TZOFFSETTO:+0000
TZNAME:UTC
DTSTART:20240101T000000
END:STANDARD
END:VTIMEZONE
BEGIN:VTIMEZONE
TZID:America/New_York
BEGIN:DAYLIGHT
TZOFFSETFROM:-0500
TZOFFSETTO:-0400
TZNAME:EDT
DTSTART:20230312T070000
END:DAYLIGHT
BEGIN:STANDARD
TZOFFSETFROM:-0400
TZOFFSETTO:-0500
TZNAME:EST
DTSTART:20231105T060000
END:STANDARD
BEGIN:DAYLIGHT
TZOFFSETFROM:-0500
TZOFFSETTO:-0400
TZNAME:EDT
DTSTART:20240310T070000
END:DAYLIGHT
BEGIN:STANDARD
TZOFFSETFROM:-0400
TZOFFSETTO:-0500
TZNAME:EST
DTSTART:20241103T060000
END:STANDARD
BEGIN:DAYLIGHT
TZOFFSETFROM:-0500
TZOFFSETTO:-0400
TZNAME:EDT
DTSTART:20250309T070000
END:DAYLIGHT
BEGIN:STANDARD
TZOFFSETFROM:-0400
TZOFFSETTO:-0500
TZNAME:EST
DTSTART:20251102T060000
END:STANDARD
END:VTIMEZONE
BEGIN:VEVENT
DTSTART;TZID=UTC:20250320T160000
DTEND;TZID=UTC:20250320T183000
DTSTAMP:20260422T152423
CREATED:20250302T041124Z
LAST-MODIFIED:20250302T041311Z
UID:1166-1742486400-1742495400@brightpathtlc.com
SUMMARY:First Annual Rock The Mic\, Rock Your Socks! Dance & Karaoke World Down Syndrome Day 2025
DESCRIPTION:Join us for the first annual Rock The Mic\, Rock Your Socks! Dance & Karaoke 2025 – it will be a night of music\, dancing\, and celebration in honor of World Down Syndrome Day. This exciting event will feature a karaoke contest\, a silent auction\, and fellowship—all while raising awareness and funds for Bright Path Therapy & Learning Center and the Down Syndrome Association of Atlanta. \nWear blue and yellow with your craziest socks and bring your best moves as we rock the night in support of inclusion and empowerment! \nGeneral Admission: $10\nVIP: $20 per person
URL:https://brightpathtlc.com/event/rock-the-mic-rock-your-socks-dance-koaraoke-world-down-syndrome-day-2025/
LOCATION:Holly Springs Train Depot\, 164 Hickory Road\, Holly Springs\, GA\, 30115\, United States
CATEGORIES:Community,Entertainment
ORGANIZER;CN="Bright Path Therapy & Learning Center":MAILTO:brightpathtlc@gmail.com
END:VEVENT
BEGIN:VEVENT
DTSTART;TZID=America/New_York:20241207T153000
DTEND;TZID=America/New_York:20241207T173000
DTSTAMP:20260422T152423
CREATED:20241102T155839Z
LAST-MODIFIED:20241102T205802Z
UID:829-1733585400-1733592600@brightpathtlc.com
SUMMARY:Holiday Happenings: Kids' Movie & Crafts
DESCRIPTION:Join us for the holiday season kick-off! Parents and caregivers are invited to take a break to accomplish holiday gift shopping or enjoy a lunch date while their children participate in a festive afternoon. Everyone is encouraged to come in their favorite pajamas and enjoy hot chocolate and snacks while watching a heartwarming holiday movie. There will also be fun arts and crafts activities to spark creativity and excitement. \nYou may register your children at this link. \nSuggested Donation: $12.00\nIf this is out of your range\, we kindly ask you to pay what you can. Your participation and support is what matters most! Funds will go toward providing services for children attending Bright Path. \nWe can’t wait to celebrate the holiday season with you! \nThis event is not sponsored by the library.
URL:https://brightpathtlc.com/event/holiday-happenings/
LOCATION:R.T. Jones Memorial Library\, 116 Brown Industrial Pkwy\, Canton\, Georgia\, 30114\, United States
CATEGORIES:Community,Entertainment
ORGANIZER;CN="Bright Path Therapy & Learning Center":MAILTO:brightpathtlc@gmail.com
END:VEVENT
END:VCALENDAR